BEGIN:VCALENDAR
VERSION:2.0
PRODID:-//Corpoguavio - ECPv6.2.5//NONSGML v1.0//EN
CALSCALE:GREGORIAN
METHOD:PUBLISH
X-ORIGINAL-URL:https://www.corpoguavio.gov.co
X-WR-CALDESC:Eventos para Corpoguavio
REFRESH-INTERVAL;VALUE=DURATION:PT1H
X-Robots-Tag:noindex
X-PUBLISHED-TTL:PT1H
BEGIN:VTIMEZONE
TZID:America/New_York
BEGIN:DAYLIGHT
TZOFFSETFROM:-0500
TZOFFSETTO:-0400
TZNAME:EDT
DTSTART:20260308T070000
END:DAYLIGHT
BEGIN:STANDARD
TZOFFSETFROM:-0400
TZOFFSETTO:-0500
TZNAME:EST
DTSTART:20261101T060000
END:STANDARD
END:VTIMEZONE
BEGIN:VEVENT
DTSTART;VALUE=DATE:20260315
DTEND;VALUE=DATE:20260316
DTSTAMP:20260421T092555
CREATED:20260226T221757Z
LAST-MODIFIED:20260226T221831Z
UID:50045-1773532800-1773619199@www.corpoguavio.gov.co
SUMMARY:Día Mundial del Consumo Responsable
DESCRIPTION:Se celebra para concienciar sobre el impacto medioambiental y social de nuestros hábitos de compra\, promoviendo la sostenibilidad\, el comercio justo y el reciclaje. Esta fecha invita a adoptar un consumo consciente\, priorizando la reducción de residuos\, la reutilización y la compra local para proteger el planeta. 
URL:https://www.corpoguavio.gov.co/evento/dia-mundial-del-consumo-responsable/
ATTACH;FMTTYPE=image/jpeg:https://www.corpoguavio.gov.co/wp-content/uploads/2026/02/consumo_responsable_day.jpg
END:VEVENT
END:VCALENDAR