BEGIN:VCALENDAR
VERSION:2.0
PRODID:-//Corpoguavio - ECPv6.2.5//NONSGML v1.0//EN
CALSCALE:GREGORIAN
METHOD:PUBLISH
X-ORIGINAL-URL:https://www.corpoguavio.gov.co
X-WR-CALDESC:Eventos para Corpoguavio
REFRESH-INTERVAL;VALUE=DURATION:PT1H
X-Robots-Tag:noindex
X-PUBLISHED-TTL:PT1H
BEGIN:VTIMEZONE
TZID:America/New_York
BEGIN:DAYLIGHT
TZOFFSETFROM:-0500
TZOFFSETTO:-0400
TZNAME:EDT
DTSTART:20260308T070000
END:DAYLIGHT
BEGIN:STANDARD
TZOFFSETFROM:-0400
TZOFFSETTO:-0500
TZNAME:EST
DTSTART:20261101T060000
END:STANDARD
END:VTIMEZONE
BEGIN:VEVENT
DTSTART;VALUE=DATE:20260323
DTEND;VALUE=DATE:20260324
DTSTAMP:20260421T092526
CREATED:20260302T224638Z
LAST-MODIFIED:20260302T224638Z
UID:50060-1774224000-1774310399@www.corpoguavio.gov.co
SUMMARY:Día Meteorológico Mundial
DESCRIPTION:Esta conmemoración pone de relieve la contribución fundamental de los Servicios Meteorológicos e Hidrológicos Nacionales a la seguridad y al bienestar de la sociedad\, y se celebra mediante diversas actividades en todo el mundo. Los temas elegidos para el Día Meteorológico Mundial abordan cuestiones relacionadas con el tiempo\, el clima o el agua.
URL:https://www.corpoguavio.gov.co/evento/dia-meteorologico-mundial-3/
ATTACH;FMTTYPE=image/png:https://www.corpoguavio.gov.co/wp-content/uploads/2026/03/Captura.PNG-mete.png
END:VEVENT
END:VCALENDAR