BEGIN:VCALENDAR
VERSION:2.0
PRODID:-//Corpoguavio - ECPv6.2.5//NONSGML v1.0//EN
CALSCALE:GREGORIAN
METHOD:PUBLISH
X-WR-CALNAME:Corpoguavio
X-ORIGINAL-URL:https://www.corpoguavio.gov.co
X-WR-CALDESC:Eventos para Corpoguavio
REFRESH-INTERVAL;VALUE=DURATION:PT1H
X-Robots-Tag:noindex
X-PUBLISHED-TTL:PT1H
BEGIN:VTIMEZONE
TZID:America/New_York
BEGIN:DAYLIGHT
TZOFFSETFROM:-0500
TZOFFSETTO:-0400
TZNAME:EDT
DTSTART:20260308T070000
END:DAYLIGHT
BEGIN:STANDARD
TZOFFSETFROM:-0400
TZOFFSETTO:-0500
TZNAME:EST
DTSTART:20261101T060000
END:STANDARD
END:VTIMEZONE
BEGIN:VEVENT
DTSTART;VALUE=DATE:20260422
DTEND;VALUE=DATE:20260423
DTSTAMP:20260422T013609
CREATED:20260324T212245Z
LAST-MODIFIED:20260324T212432Z
UID:50304-1776816000-1776902399@www.corpoguavio.gov.co
SUMMARY:Día Internacional De La Tierra
DESCRIPTION:Se Celebra para concientizar sobre los desafíos ambientales. Busca generar conciencia sobre la contaminación\, conservación de la biodiversidad\, superpoblación y la necesidad de un equilibrio entre necesidades económicas\, sociales y ambientales.
URL:https://www.corpoguavio.gov.co/evento/dia-internacional-de-la-tierra-3/
ATTACH;FMTTYPE=image/jpeg:https://www.corpoguavio.gov.co/wp-content/uploads/2026/03/paisaje.jpg
END:VEVENT
END:VCALENDAR