BEGIN:VCALENDAR
VERSION:2.0
PRODID:-//Corpoguavio - ECPv6.2.5//NONSGML v1.0//EN
CALSCALE:GREGORIAN
METHOD:PUBLISH
X-WR-CALNAME:Corpoguavio
X-ORIGINAL-URL:https://www.corpoguavio.gov.co
X-WR-CALDESC:Eventos para Corpoguavio
REFRESH-INTERVAL;VALUE=DURATION:PT1H
X-Robots-Tag:noindex
X-PUBLISHED-TTL:PT1H
BEGIN:VTIMEZONE
TZID:America/New_York
BEGIN:DAYLIGHT
TZOFFSETFROM:-0500
TZOFFSETTO:-0400
TZNAME:EDT
DTSTART:20260308T070000
END:DAYLIGHT
BEGIN:STANDARD
TZOFFSETFROM:-0400
TZOFFSETTO:-0500
TZNAME:EST
DTSTART:20261101T060000
END:STANDARD
END:VTIMEZONE
BEGIN:VEVENT
DTSTART;VALUE=DATE:20260429
DTEND;VALUE=DATE:20260430
DTSTAMP:20260421T073900
CREATED:20260324T213900Z
LAST-MODIFIED:20260324T213935Z
UID:50314-1777420800-1777507199@www.corpoguavio.gov.co
SUMMARY:Día Nacional Del Árbol
DESCRIPTION:Instituido para concienciar sobre la protección de los recursos forestales\, vitales para el oxígeno\, el agua y el clima. Esta fecha motiva jornadas de siembra y restauración ecológica para combatir la deforestación. 
URL:https://www.corpoguavio.gov.co/evento/dia-nacional-del-arbol-3/
ATTACH;FMTTYPE=image/jpeg:https://www.corpoguavio.gov.co/wp-content/uploads/2026/03/DIA-DEL-ARBOL_Mesa-de-trabajo-1-copia-2-scaled.jpg
END:VEVENT
BEGIN:VEVENT
DTSTART;VALUE=DATE:20260429
DTEND;VALUE=DATE:20260430
DTSTAMP:20260421T073900
CREATED:20260324T214734Z
LAST-MODIFIED:20260324T214811Z
UID:50317-1777420800-1777507199@www.corpoguavio.gov.co
SUMMARY:Día Internacional De Concienciación Sobre El Ruido
DESCRIPTION:Se conmemora para alertar y crear conciencia en la población sobre los riesgos que tiene el ruido para el trastorno auditivo y su impacto en la salud.Este día pretende llamar la atención e incentivar a las instituciones públicas y privadas a informar a los ciudadanos de los peligros que genera la exposición al ruido a largo plazo\, así como a invitar a las personas a realizarse pruebas auditivas.
URL:https://www.corpoguavio.gov.co/evento/dia-internacional-de-concienciacion-sobre-el-ruido-3/
ATTACH;FMTTYPE=image/png:https://www.corpoguavio.gov.co/wp-content/uploads/2025/07/RUIDOra.png
END:VEVENT
END:VCALENDAR