BEGIN:VCALENDAR
VERSION:2.0
PRODID:-//Corpoguavio - ECPv6.2.5//NONSGML v1.0//EN
CALSCALE:GREGORIAN
METHOD:PUBLISH
X-WR-CALNAME:Corpoguavio
X-ORIGINAL-URL:https://www.corpoguavio.gov.co
X-WR-CALDESC:Eventos para Corpoguavio
REFRESH-INTERVAL;VALUE=DURATION:PT1H
X-Robots-Tag:noindex
X-PUBLISHED-TTL:PT1H
BEGIN:VTIMEZONE
TZID:America/New_York
BEGIN:DAYLIGHT
TZOFFSETFROM:-0500
TZOFFSETTO:-0400
TZNAME:EDT
DTSTART:20260308T070000
END:DAYLIGHT
BEGIN:STANDARD
TZOFFSETFROM:-0400
TZOFFSETTO:-0500
TZNAME:EST
DTSTART:20261101T060000
END:STANDARD
END:VTIMEZONE
BEGIN:VEVENT
DTSTART;VALUE=DATE:20261003
DTEND;VALUE=DATE:20261004
DTSTAMP:20260421T092102
CREATED:20260331T135844Z
LAST-MODIFIED:20260331T135844Z
UID:50445-1790985600-1791071999@www.corpoguavio.gov.co
SUMMARY:Día Interamericano Del Agua
DESCRIPTION:Se celebra para concienciar sobre la importancia de la conservación y uso responsable del agua potable y la gestión de aguas residuales en América y el Caribe. Establecido en 1992\, busca promover la salud\, el bienestar humano y la protección de este recurso esencial.\nOrigen y Organización\n\n 	Fundación: Fue instituido en 1992 durante el XXIII Congreso Interamericano de Ingeniería Sanitaria y Ambiental en La Habana\, Cuba.\n 	Promotores: La iniciativa fue impulsada por la Organización Panamericana de la Salud (OPS)\, la Asociación Interamericana de Ingeniería Sanitaria y Ambiental (AIDIS) y la Asociación Caribeña de Agua y Aguas Residuales (CWWA).\n 	Primera celebración: Se llevó a cabo formalmente en
URL:https://www.corpoguavio.gov.co/evento/dia-interamericano-del-agua-3/
ATTACH;FMTTYPE=image/jpeg:https://www.corpoguavio.gov.co/wp-content/uploads/2026/03/Interamericano-del-agua.jpg
END:VEVENT
END:VCALENDAR