BEGIN:VCALENDAR
VERSION:2.0
PRODID:-//Corpoguavio - ECPv6.2.5//NONSGML v1.0//EN
CALSCALE:GREGORIAN
METHOD:PUBLISH
X-ORIGINAL-URL:https://www.corpoguavio.gov.co
X-WR-CALDESC:Eventos para Corpoguavio
REFRESH-INTERVAL;VALUE=DURATION:PT1H
X-Robots-Tag:noindex
X-PUBLISHED-TTL:PT1H
BEGIN:VTIMEZONE
TZID:America/New_York
BEGIN:DAYLIGHT
TZOFFSETFROM:-0500
TZOFFSETTO:-0400
TZNAME:EDT
DTSTART:20260308T070000
END:DAYLIGHT
BEGIN:STANDARD
TZOFFSETFROM:-0400
TZOFFSETTO:-0500
TZNAME:EST
DTSTART:20261101T060000
END:STANDARD
END:VTIMEZONE
BEGIN:VEVENT
DTSTART;VALUE=DATE:20261014
DTEND;VALUE=DATE:20261015
DTSTAMP:20260421T141119
CREATED:20260331T193549Z
LAST-MODIFIED:20260331T193736Z
UID:50493-1791936000-1792022399@www.corpoguavio.gov.co
SUMMARY:Día Internacional de los Residuos Electrónicos
DESCRIPTION:Se celebra  para concienciar sobre el reciclaje y la gestión responsable de los aparatos eléctricos y electrónicos (RAEE). Creado en 2018 por el Foro RAEE\, busca reducir la basura tecnológica\, que genera más de 62 millones de toneladas anuales\, mediante la reutilización y el reciclaje
URL:https://www.corpoguavio.gov.co/evento/dia-internacional-de-los-residuos-electronicos/
ATTACH;FMTTYPE=image/jpeg:https://www.corpoguavio.gov.co/wp-content/uploads/2026/03/residuos-electronicos.jpg
END:VEVENT
BEGIN:VEVENT
DTSTART;VALUE=DATE:20261015
DTEND;VALUE=DATE:20261016
DTSTAMP:20260421T141119
CREATED:20260331T205022Z
LAST-MODIFIED:20260331T205022Z
UID:50581-1792022400-1792108799@www.corpoguavio.gov.co
SUMMARY:Día Mundial De La Mujer Rural
DESCRIPTION:Este día se celebra para reconocer su papel fundamental en la agricultura\, la seguridad alimentaria y la reducción de la pobreza rural. Establecido por la ONU en 2007\, resalta su labor crucial en el desarrollo sostenible y la gestión de recursos naturales\, buscando empoderarlas. Esta conmemoración busca romper el silencio sobre sus dificultades y promover políticas que mejoren sus condiciones de vida y su participación económica y social.
URL:https://www.corpoguavio.gov.co/evento/dia-mundial-de-la-mujer-rural-3/
ATTACH;FMTTYPE=image/jpeg:https://www.corpoguavio.gov.co/wp-content/uploads/2026/03/mujer-rural.jpg
END:VEVENT
BEGIN:VEVENT
DTSTART;VALUE=DATE:20261018
DTEND;VALUE=DATE:20261019
DTSTAMP:20260421T141119
CREATED:20260331T202157Z
LAST-MODIFIED:20260331T202720Z
UID:50543-1792281600-1792367999@www.corpoguavio.gov.co
SUMMARY:Día Mundial De Protección De La Naturaleza
DESCRIPTION:Esta fecha busca concienciar sobre la preservación de los ecosistemas\, la biodiversidad y los recursos naturales ante el cambio climático\, impulsando acciones sostenibles\, el reciclaje y la protección del medio ambiente para un futuro sostenible.\n\n 	Objetivo: Promover la responsabilidad ambiental\, reducir la contaminación y proteger la flora y fauna.\n 	Acciones: Se fomenta la educación ambiental\, el consumo responsable\, el uso de energías limpias y la conservación de los espacios naturales.
URL:https://www.corpoguavio.gov.co/evento/dia-mundial-de-proteccion-de-la-naturaleza/
ATTACH;FMTTYPE=image/jpeg:https://www.corpoguavio.gov.co/wp-content/uploads/2026/03/paisaje-1.jpg
END:VEVENT
BEGIN:VEVENT
DTSTART;VALUE=DATE:20261021
DTEND;VALUE=DATE:20261022
DTSTAMP:20260421T141119
CREATED:20260331T203519Z
LAST-MODIFIED:20260331T203655Z
UID:50562-1792540800-1792627199@www.corpoguavio.gov.co
SUMMARY:Día Mundial Del Ahorro de Energía
DESCRIPTION:Se celebra para concientizar sobre el uso responsable de los recursos energéticos\, promover la eficiencia energética y disminuir el impacto ambiental negativo. La fecha busca fomentar hábitos sostenibles tanto en el hogar como en la industria.\n\n 	Objetivo: Reducir la huella de carbono y el consumo de energía\, protegiendo así los recursos naturales y la calidad de vida.\n 	Acciones en el hogar: Se recomienda utilizar luz natural\, apagar luces y electrodomésticos innecesarios\, usar bombillas LED y mejorar el aislamiento térmico.\n 	Medidas Eficientes:\n 	 Bajar  1°C la calefacción puede ahorrar hasta un 7% de energía.\n 	Impacto: El ahorro energético prolonga la vida útil de recursos no renovables y reduce la contaminación.
URL:https://www.corpoguavio.gov.co/evento/dia-mundial-del-ahorro-de-energia-2/
ATTACH;FMTTYPE=image/jpeg:https://www.corpoguavio.gov.co/wp-content/uploads/2025/09/DM-Ahorro-de-energia-_Mesa-de-trabajo-1-copia-scaled.jpg
END:VEVENT
BEGIN:VEVENT
DTSTART;VALUE=DATE:20261024
DTEND;VALUE=DATE:20261025
DTSTAMP:20260421T141119
CREATED:20260331T204309Z
LAST-MODIFIED:20260331T204309Z
UID:50573-1792800000-1792886399@www.corpoguavio.gov.co
SUMMARY:Día Internacional Contra El Cambio Climático
DESCRIPTION:Se celebra el Día Internacional contra el Cambio Climático para concienciar sobre los graves efectos del calentamiento global y fomentar acciones de mitigación. Aunque no es una fecha proclamada oficialmente por la ONU\, es apoyada mundialmente para impulsar la reducción de emisiones y la acción climática.\n\n 	\n\n 	Objetivo: Alertar sobre los efectos devastadores en el planeta (derretimiento de polos\, aumento del nivel del mar\, eventos climáticos extremos) y acelerar la transición hacia energías limpias.\n 	Origen: La fecha busca impulsar el Objetivo del Desarrollo Sostenible \n 	Acción por el Clima\n 	Acciones Populares: Se promueve la reducción de plásticos\, el uso de transporte sostenible\, el ahorro energético y la siembra de árboles.\n 	Contexto: Se utiliza para recordar la urgencia de cumplir con los compromisos del Acuerdo de París y reducir la huella de carbono.\n 	La crisis climática es considerada una amenaza real y actual que requiere la participación conjunta de gobiernos\, empresas y ciudadanos
URL:https://www.corpoguavio.gov.co/evento/dia-internacional-contra-el-cambio-climatico-3/
ATTACH;FMTTYPE=image/png:https://www.corpoguavio.gov.co/wp-content/uploads/2025/09/cambio-climatico.png
END:VEVENT
BEGIN:VEVENT
DTSTART;VALUE=DATE:20261101
DTEND;VALUE=DATE:20261102
DTSTAMP:20260421T141119
CREATED:20260331T221312Z
LAST-MODIFIED:20260331T221312Z
UID:50600-1793491200-1793577599@www.corpoguavio.gov.co
SUMMARY:Día Mundial De La Ecología
DESCRIPTION:Se celebra para concientizar sobre la importancia de conservar el medio ambiente\, proteger la biodiversidad y fomentar una relación armónica entre los seres vivos y su entorno. Esta fecha también homenajea a la ecología como ciencia y a los profesionales que trabajan para lograr un desarrollo sostenible. \nPuntos clave del Día Mundial de la Ecología:\n\n 	\n\n 	Origen y Objetivo: Busca sensibilizar a la población mundial sobre la necesidad de adoptar prácticas sostenibles y reducir la huella ecológica.\n 	Enfoque: La ecología es la ciencia que estudia las interacciones entre los seres vivos y su entorno\, fundamental para el equilibrio del planeta.\n 	Acciones concretas:\n Se promueve el reciclaje\, el uso de transporte responsable\, la reducción del consumo energético y la protección de los ecosistemas.\n\n\n\n\n\n 	Importancia de la fecha: Se utiliza para recordar que la preservación de la naturaleza es un compromiso colectivo para el presente y el futuro. \n\n\n\nEsta conmemoración invita a la reflexión sobre cómo nuestras acciones diarias impactan en el ecosistema\, incentivando cambios para lograr un planeta más saludable y sostenible
URL:https://www.corpoguavio.gov.co/evento/dia-mundial-de-la-ecologia-2/
ATTACH;FMTTYPE=image/webp:https://www.corpoguavio.gov.co/wp-content/uploads/2026/03/ecologia.webp
END:VEVENT
BEGIN:VEVENT
DTSTART;VALUE=DATE:20261103
DTEND;VALUE=DATE:20261104
DTSTAMP:20260421T141119
CREATED:20260331T222603Z
LAST-MODIFIED:20260331T222603Z
UID:50630-1793664000-1793750399@www.corpoguavio.gov.co
SUMMARY:Día Internacional De Las Reservas De La Biosfera
DESCRIPTION:Establecido por la UNESCO en 2021\, busca destacar la importancia de estos espacios en la conservación de la biodiversidad\, el desarrollo sostenible y la convivencia armoniosa entre el ser humano y la naturaleza\, actuando como laboratorios de soluciones sostenibles.\n\n 	Propósito: Sensibilizar sobre la conservación de ecosistemas y promover la investigación y el desarrollo sostenible.\n 	Origen: Fue proclamado por la UNESCO en 2021 y se celebra oficialmente desde el 3 de noviembre de 2022.\n 	Importancia: Las reservas de biosfera\, integradas en la Red Mundial de la UNESCO\, demuestran cómo la ciencia\, la educación y la comunidad pueden gestionar recursos naturales de forma sostenible.\n 	Contexto: Son lugares clave para abordar problemas ambientales y cambiar la relación con la naturaleza.\n 	Ejemplos: Colombia\, por ejemplo\, cuenta con reservas reconocidas como El Tuparro\, Seaflower y la Sierra Nevada de Santa Marta\n 	Esta fecha es un llamado a la acción para proteger estos espacios únicos que representan la diversidad de hábitats del planeta.
URL:https://www.corpoguavio.gov.co/evento/dia-internacional-de-las-reservas-de-la-biosfera/
ATTACH;FMTTYPE=image/jpeg:https://www.corpoguavio.gov.co/wp-content/uploads/2026/03/Biosfera.jpg
END:VEVENT
BEGIN:VEVENT
DTSTART;VALUE=DATE:20261106
DTEND;VALUE=DATE:20261107
DTSTAMP:20260421T141119
CREATED:20260407T213441Z
LAST-MODIFIED:20260407T213441Z
UID:50635-1793923200-1794009599@www.corpoguavio.gov.co
SUMMARY:Día Para La Prevención De La Explotación Del Medio Ambiente En La Guerra y Los Conflictos
DESCRIPTION:Proclamado por la ONU en 2001 (resolución 56/4)\, busca concienciar sobre la protección de los ecosistemas en conflictos\, ya que el daño ambiental trasciende generaciones y la paz duradera requiere la preservación de los recursos naturales.\n\n 	Impacto Ambiental de la Guerra: La destrucción no se limita a las vidas humanas; los conflictos causan daños irreparables como contaminación del agua y suelo\, destrucción de bosques y muerte de fauna.\n 	Minerales y Recursos: La explotación de recursos naturales a menudo financia los conflictos\, lo que resalta la necesidad de gestionar la riqueza natural bajo principios éticos.\n 	Derecho Internacional: Se promueve la protección del medio ambiente mediante el Derecho Internacional Humanitario y normas de DDHH.\n 	Prevención y Paz: La gestión sostenible de los recursos naturales se considera una estrategia fundamental para prevenir conflictos y reconstruir sociedades resilientes tras la guerra.\n 	Esta fecha resalta que la defensa de la naturaleza es un componente esencial para la paz y la seguridad internacional.
URL:https://www.corpoguavio.gov.co/evento/dia-para-la-prevencion-de-la-explotacion-del-medio-ambiente-en-la-guerra-y-los-conflictos/
ATTACH;FMTTYPE=image/jpeg:https://www.corpoguavio.gov.co/wp-content/uploads/2026/04/MA.jpg
END:VEVENT
BEGIN:VEVENT
DTSTART;VALUE=DATE:20261109
DTEND;VALUE=DATE:20261110
DTSTAMP:20260421T141119
CREATED:20260407T214850Z
LAST-MODIFIED:20260407T215530Z
UID:50638-1794182400-1794268799@www.corpoguavio.gov.co
SUMMARY:Día De Los Parques Nacionales Naturales
DESCRIPTION:En esta fecha se conmemora la creación del primer parque nacional\, la Cueva de los Guacharos en 1960. Esta fecha resalta la importancia de conservar la biodiversidad y proteger los ecosistemas estratégicos que cubren gran parte del territorio nacional.\n\nAspectos clave de esta celebración:\n\n 	Origen: La fecha recuerda la declaratoria del Parque Nacional NAtural Cueva de los Guácharos en el Huila\, marcando el inicio de la protección ambiental oficial en Colombia.\n 	Importancia: Se busca sensibilizar sobre la protección de fauna y flora\, la regulación del clima\, la provisión de agua y el papel crucial de los guardaparques y comunidades locales. \n 	Biodiversidad: Colombia cuenta con más de 60 áreas protegidas 65 a noviembre 2024\, que son el hogar de especies como el cóndor andino\, el jaguar y el oso de anteojos.\n 	Contexto: Es una oportunidad para fomentar la visita responsable y el turismo ecológico en lugares como el Parque Nacional Natural Tayrona o Chingaza y Sumapaz.
URL:https://www.corpoguavio.gov.co/evento/dia-de-los-parques-nacionales-naturales-2/
ATTACH;FMTTYPE=image/jpeg:https://www.corpoguavio.gov.co/wp-content/uploads/2026/04/Parques-FB-1.jpg
END:VEVENT
BEGIN:VEVENT
DTSTART;VALUE=DATE:20261117
DTEND;VALUE=DATE:20261118
DTSTAMP:20260421T141119
CREATED:20260407T220605Z
LAST-MODIFIED:20260407T220957Z
UID:50644-1794873600-1794959999@www.corpoguavio.gov.co
SUMMARY:Día Del Ambientalista Latinoamericano
DESCRIPTION: Se celebra para reconocer a quienes lideran la defensa\, conservación y regeneración de los recursos naturales en la región. Esta fecha busca destacar la protección de la biodiversidad\, la lucha contra la contaminación y el compromiso con la sostenibilidad en América Latina.\nAspectos claves en esta conmemoración:\n\n 	Reconocimiento a defensores: Se homenajea a los hombres y mujeres que trabajan por el medio ambiente\, muchas veces en condiciones de riesgo.\n 	Conciencia Ambiental: Es una jornada para reflexionar sobre el impacto de nuestros hábitos diarios y promover un estilo de vida más sostenible.\n 	Compromiso Regional: La celebración abarca desde México hasta el cono sur\, resaltando la unidad en la lucha por la defensa del territorio y la vida silvestre.\n 	Raíces del Movimiento: La fecha resalta la importancia de la conservación y la preservación de la vida silvestre como base de la identidad ambientalista latinoamericana.
URL:https://www.corpoguavio.gov.co/evento/dia-del-ambientalista-latinoamericano-2/
ATTACH;FMTTYPE=image/jpeg:https://www.corpoguavio.gov.co/wp-content/uploads/2026/04/ambientalista-1.jpg
END:VEVENT
BEGIN:VEVENT
DTSTART;VALUE=DATE:20261117
DTEND;VALUE=DATE:20261118
DTSTAMP:20260421T141119
CREATED:20260407T222222Z
LAST-MODIFIED:20260407T222222Z
UID:50649-1794873600-1794959999@www.corpoguavio.gov.co
SUMMARY:Día Internacional Del Aire Puro
DESCRIPTION:Instituido en 1977 por la Organización Mundial de la Salud (OMS). Busca concienciar sobre la contaminación ambiental\, reducir emisiones tóxicas y fomentar hábitos sostenibles para proteger la salud humana y ecosistemas.\nAspectos claves de la fecha:\n\n 	Origen: Surgió ante la creciente preocupación por las emisiones contaminantes industriales y vehiculares.\n 	Objetivo: Promover la conservación de un aire limpio y saludable\, esencial para la vida.\n 	Acciones recomendadas: Reducir el uso del automóvil\, reciclar\, evitar quemas de basura\, plantar árboles y disminuir el uso de aerosoles.\n 	Diferencia: Es importante no confundirlo con el Día Internacional del Aire Limpio por un cielo azul de la ONU\, celebrado el 7 de septiembre
URL:https://www.corpoguavio.gov.co/evento/dia-internacional-del-aire-puro-2/
ATTACH;FMTTYPE=image/jpeg:https://www.corpoguavio.gov.co/wp-content/uploads/2026/03/CALIDAD-DEL-AIRE.jpg
END:VEVENT
BEGIN:VEVENT
DTSTART;VALUE=DATE:20261122
DTEND;VALUE=DATE:20261123
DTSTAMP:20260421T141119
CREATED:20260407T222930Z
LAST-MODIFIED:20260407T222930Z
UID:50651-1795305600-1795391999@www.corpoguavio.gov.co
SUMMARY:Día Nacional De La Orquídea
DESCRIPTION:Destacando a la Cattleya trianae como la flor emblemática del país desde 1936. Esta fecha busca resaltar la biodiversidad nacional\, celebrando la belleza y conservación de más de 4\,000 especies de orquídeas presentes en el territorio.\n\n 	Flor Nacional de Colombia: La Cattleya trianae fue elegida por su belleza y diversidad de colores.\n 	Origen del nombre: Homenaje al botánico colombiano José Jerónimo Triana.\n 	Región Andina: Concentra la mayor cantidad de orquídeas endémicas del país.
URL:https://www.corpoguavio.gov.co/evento/dia-nacional-de-la-orquidea-3/
ATTACH;FMTTYPE=image/jpeg:https://www.corpoguavio.gov.co/wp-content/uploads/2024/03/IMG_5925-scaled.jpg
END:VEVENT
BEGIN:VEVENT
DTSTART;VALUE=DATE:20261126
DTEND;VALUE=DATE:20261127
DTSTAMP:20260421T141119
CREATED:20260407T223508Z
LAST-MODIFIED:20260408T212446Z
UID:50653-1795651200-1795737599@www.corpoguavio.gov.co
SUMMARY:Día Mundial del Transporte Sostenible
DESCRIPTION:Proclamado por la Asamblea General de las Naciones Unidas en 2023. Busca concienciar sobre sistemas de transporte seguros\, asequibles y ecológicos\, fundamentales para reducir emisiones\, mejorar la movilidad urbana y apoyar el desarrollo sostenible.\n\n 	Objetivo: Fomentar el uso de transporte público\, bicicletas y vehículos eléctricos para minimizar el impacto ambiental y mejorar la calidad de vida.\n 	Importancia: El transporte es vital para el crecimiento económico y la cooperación internacional\, por lo que se busca transformar el sector para reducir su huella de carbono.\n 	Celebración: Se conmemora para impulsar acciones que reduzcan la contaminación y promuevan la movilidad eficiente\n 	La fecha subraya la necesidad de cambiar nuestros hábitos de movilidad para combatir el cambio climático.
URL:https://www.corpoguavio.gov.co/evento/dia-mundial-del-transporte-sostenible-2/
ATTACH;FMTTYPE=image/jpeg:https://www.corpoguavio.gov.co/wp-content/uploads/2026/04/download.jpg
END:VEVENT
BEGIN:VEVENT
DTSTART;VALUE=DATE:20261129
DTEND;VALUE=DATE:20261130
DTSTAMP:20260421T141119
CREATED:20260407T223917Z
LAST-MODIFIED:20260407T223917Z
UID:50656-1795910400-1795996799@www.corpoguavio.gov.co
SUMMARY:Día Mundial De La Conservación Del Jaguar
DESCRIPTION:Se celebra para concienciar sobre la protección del felino más grande de América (Panthera onca)\, una especie clave para ecosistemas saludables. Instaurado en 2018\, busca frenar amenazas como la pérdida de hábitat y la caza\, celebrando su valor ecológico y cultural desde México hasta Argentina.\nAspectos clave de esta fecha:\n\n 	Objetivo: Informar sobre las amenazas que enfrenta el jaguar e impulsar esfuerzos de conservación para garantizar su supervivencia.\n 	Importancia Ecológica: Al ser un superdepredador\, la presencia del jaguar indica un ecosistema saludable\, beneficiando a muchas otras especies en los bosques tropicales\, manglares y sabanas.\n 	Iniciativa Internacional: Fue impulsado por el Programa de las Naciones Unidas para el Desarrollo (PNUD)\, el Fondo Mundial para la Vida Silvestre (WWF)\, la Sociedad de Conservación de la Vida Silvestre (WCS) y diversas organizaciones de conservación.\n 	Amenazas: La deforestación\, la fragmentación de su hábitat y la caza ilegal son sus principales peligros.\n 	Presencia: El jaguar habita en 18 países de América Latina.
URL:https://www.corpoguavio.gov.co/evento/dia-mundial-de-la-conservacion-del-jaguar-3/
ATTACH;FMTTYPE=image/jpeg:https://www.corpoguavio.gov.co/wp-content/uploads/2024/03/jaguar-copia-scaled.jpg
END:VEVENT
BEGIN:VEVENT
DTSTART;VALUE=DATE:20261203
DTEND;VALUE=DATE:20261204
DTSTAMP:20260421T141119
CREATED:20260408T163122Z
LAST-MODIFIED:20260408T163122Z
UID:50659-1796256000-1796342399@www.corpoguavio.gov.co
SUMMARY:Día Mundial Del No Uso De Plaguicidas
DESCRIPTION:Se celebra para concientizar sobre los peligros de los agroquímicos y recordar la tragedia de Bhopal (India) en 1984. Busca promover alternativas agroecológicas\, proteger la salud humana y ambiental frente a los plaguicidas altamente peligrosos (PAP).\n\n 	Origen: Fue instituido por la Red de Acción en Plaguicidas (PAN Internacional) en respuesta a la fuga de gas tóxico de una fábrica de pesticidas que dejó miles de víctimas.\n 	Objetivo: Reflexionar sobre la agricultura convencional y el impacto de los químicos tóxicos en los alimentos\, suelos y agua.\n 	Alternativas: Se impulsa el uso de métodos naturales\, control biológico y la agroecología para garantizar la soberanía alimentaria sin venenos.
URL:https://www.corpoguavio.gov.co/evento/dia-mundial-del-no-uso-de-plaguicidas/
ATTACH;FMTTYPE=image/jpeg:https://www.corpoguavio.gov.co/wp-content/uploads/2026/04/no-plaguicidas.jpg
END:VEVENT
BEGIN:VEVENT
DTSTART;VALUE=DATE:20261205
DTEND;VALUE=DATE:20261206
DTSTAMP:20260421T141119
CREATED:20260408T164658Z
LAST-MODIFIED:20260408T165100Z
UID:50664-1796428800-1796515199@www.corpoguavio.gov.co
SUMMARY:Día Mundial Del Voluntariado Ambiental
DESCRIPTION:Proclamado por la ONU en 1985\, este día reconoce la labor de personas que dedican su tiempo voluntariamente a proteger el medio ambiente\, promoviendo la sostenibilidad y el cuidado de los recursos naturales.\n\n 	\nObjetivo: Reconocer y destacar el compromiso de fundaciones\, organizaciones y personas que luchan por el medio ambiente.\n\n 	\nOrigen: Asamblea General de la ONU en 1985.\n\n 	\nAcciones: Se realizan actos de conmemoración para valorar el trabajo en campo y la gestión de recursos naturales.\n\n 	\nVoluntariado ambiental en Bogotá: El Concejo de Bogotá\, estableció esta fecha en 2015 para fomentar la participación ciudadana en la protección de los ecosistemas locales.
URL:https://www.corpoguavio.gov.co/evento/dia-mundial-del-voluntariado-ambiental/
ATTACH;FMTTYPE=image/jpeg:https://www.corpoguavio.gov.co/wp-content/uploads/2026/04/Voluntariado-Ambiental.jpg
END:VEVENT
BEGIN:VEVENT
DTSTART;VALUE=DATE:20261205
DTEND;VALUE=DATE:20261206
DTSTAMP:20260421T141119
CREATED:20260408T171233Z
LAST-MODIFIED:20260408T171233Z
UID:50671-1796428800-1796515199@www.corpoguavio.gov.co
SUMMARY:Día Mundial Del Suelo
DESCRIPTION:El Día Mundial del Suelo y su campaña tienen como objetivo concienciar sobre la importancia y la relación entre el suelo y el agua\, para lograr sistemas agroalimentarios sostenibles y resilientes. Celebremos la importancia de nuestros suelos e involucrémonos para preservarlos.
URL:https://www.corpoguavio.gov.co/evento/dia-mundial-del-suelo/
ATTACH;FMTTYPE=image/jpeg:https://www.corpoguavio.gov.co/wp-content/uploads/2025/08/SUELO-01-scaled.jpg
END:VEVENT
BEGIN:VEVENT
DTSTART;VALUE=DATE:20261211
DTEND;VALUE=DATE:20261212
DTSTAMP:20260421T141119
CREATED:20260408T165647Z
LAST-MODIFIED:20260408T165837Z
UID:50669-1796947200-1797033599@www.corpoguavio.gov.co
SUMMARY:Día Internacional De Las Montañas
DESCRIPTION:se celebrapara concienciar sobre la importancia de estos ecosistemas\, que albergan el 15% de la población mundial y la mitad de la biodiversidad. Proclamado por la ONU en 2003\, busca promover la conservación y el desarrollo sostenible de zonas montañosas.\n\n 	\nImportancia: Suministran entre el 60% y el 80% del agua dulce del mundo\, esencial para la agricultura y la energía limpia.\n\n 	\nAmenazas: Están bajo presión por el cambio climático\, la degradación de tierras y la sobreexplotación.\n\n 	\nObjetivo: Fomentar la protección de la biodiversidad y el desarrollo sostenible de las comunidades de montaña.\n\n 	\nTemática: Cada año la ONU propone un enfoque\, centrándose a menudo en la sostenibilidad\, las mujeres y el cambio climático.
URL:https://www.corpoguavio.gov.co/evento/dia-internacional-de-las-montanas-3/
ATTACH;FMTTYPE=image/png:https://www.corpoguavio.gov.co/wp-content/uploads/2025/09/MONTANAS.png
END:VEVENT
BEGIN:VEVENT
DTSTART;VALUE=DATE:20261214
DTEND;VALUE=DATE:20261215
DTSTAMP:20260421T141119
CREATED:20260408T193632Z
LAST-MODIFIED:20260408T194018Z
UID:50673-1797206400-1797292799@www.corpoguavio.gov.co
SUMMARY:Día Mundial Del Mono
DESCRIPTION:Este dia ce celebra para concienciar sobre la conservación de los primates y sus hábitats\, amenazados por la deforestación y el tráfico ilegal. Creada en 2000 por artistas y popularizada por estudiantes de la Universidad de Michigan\, la fecha destaca la importancia de proteger a más de 260 especies.\nAspectos claves de la celebración\n\n 	Origen: Fue popularizada en el año 2000 por los artistas Casey Sorrow y Eric Millikin.\n 	Objetivo: Generar conciencia sobre las amenazas a los primates\, incluyendo la pérdida de hábitat y el comercio ilegal.\n 	Especies amenazadas: Aproximadamente 25 especies de monos se encuentran en grave peligro de extinción.\n 	Conservación: Se busca promover el respeto y protección de la biodiversidad que estos animales representa
URL:https://www.corpoguavio.gov.co/evento/50673/
ATTACH;FMTTYPE=image/jpeg:https://www.corpoguavio.gov.co/wp-content/uploads/2026/04/MONO-ARDILLA-01-1-scaled.jpg
END:VEVENT
BEGIN:VEVENT
DTSTART;VALUE=DATE:20261222
DTEND;VALUE=DATE:20261223
DTSTAMP:20260421T141119
CREATED:20260408T211527Z
LAST-MODIFIED:20260408T212008Z
UID:50680-1797897600-1797983999@www.corpoguavio.gov.co
SUMMARY:Aniversario Ley 99 Por Medio Del Cual Se Crea El Sistema Nacional Ambiental (SINA)
DESCRIPTION:LEY 99 DE 1993 (Diciembre 22) \n“Por la cual se crea el Ministerio del Medio Ambiente\, se reordena el Sector Público encargado de la gestión y conservación del medio ambiente y los recursos naturales renovables\, se organiza el Sistema Nacional Ambiental\, SINA\, y se dictan otras disposiciones.” \nTÍTULO I \nFUNDAMENTOS DE LA POLÍTICA AMBIENTAL COLOMBIANA \n \n\nARTÍCULO 1. Principios Generales Ambientales. La política ambiental colombiana seguirá los siguientes principios generales:\n\n1. El proceso de desarrollo económico y social del país se orientará según los principios universales y del desarrollo sostenible contenidos en la Declaración de Río de Janeiro de junio de 1992 sobre Medio Ambiente y Desarrollo.\n\n2. La biodiversidad del país\, por ser patrimonio nacional y de interés de la humanidad\, deberá ser protegida prioritariamente y aprovechada en forma sostenible.\n\n3. Las políticas de población tendrán en cuenta el derecho de los seres humanos a una vida saludable y productiva en armonía con la naturaleza.\n\n4. Las zonas de páramos\, subpáramos\, los nacimientos de agua y las zonas de recarga de acuíferos serán objeto de protección especial.\n\n5. En la utilización de los recursos hídricos\, el consumo humano tendrá prioridad sobre cualquier otro uso.\n\n6. La formulación de las políticas ambientales tendrá en cuenta el resultado del proceso de investigación científica. No obstante\, las autoridades ambientales y los particulares darán aplicación al principio de precaución conforme al cual\, cuando exista peligro de daño grave e irreversible\, la falta de certeza científica absoluta no deberá utilizarse como razón para postergar la adopción de medidas eficaces para impedir la degradación del medio ambiente.\n\n7. El Estado fomentará la incorporación de los costos ambientales y el uso de instrumentos económicos para la prevención\, corrección y restauración del deterioro ambiental y para la conservación de los recursos naturales renovables.\n\n8. El paisaje por ser patrimonio común deberá ser protegido.\n\n9. La prevención de desastres será materia de interés colectivo y las medidas tomadas para evitar o mitigar los efectos de su ocurrencia serán de obligatorio cumplimiento.\n\n10. La acción para la protección y recuperación ambientales del país es una tarea conjunta y coordinada entre el Estado\, la comunidad\, las organizaciones no gubernamentales y el sector privado. El Estado apoyará e incentivará la conformación de organismos no gubernamentales para la protección ambiental y podrá delegar en ellos algunas de sus funciones.\n\n11. Los estudios de impacto ambiental serán el instrumento básico para la toma de decisiones respecto a la construcción de obras y actividades que afecten significativamente el medio ambiente natural o artificial.\n\n12. El manejo ambiental del país\, conforme a la Constitución Nacional\, será descentralizado\, democrático y participativo.\n\n13. Para el manejo ambiental del país\, se establece un Sistema Nacional Ambiental\, SINA\, cuyos componentes y su interrelación definen los mecanismos de actuación del Estado y la sociedad civil.\n\n14. Las instituciones ambientales del Estado se estructurarán teniendo como base criterios de manejo integral del medio ambiente y su interrelación con los procesos de planificación económica\, social y física.\nTÍTULO II \nDEL MINISTERIO DEL MEDIO AMBIENTE Y DEL SISTEMA NACIONAL AMBIENTAL \nARTÍCULO 2. Creación y Objetivos del Ministerio del Medio Ambiente. Créase el Ministerio del Medio Ambiente como organismo rector de la gestión del medio ambiente y de los recursos naturales renovables\, encargado de impulsar una relación de respeto y armonía del hombre con la naturaleza y de definir\, en los términos de la presente Ley\, las políticas y regulaciones a las que se sujetarán la recuperación\, conservación\, protección\, ordenamiento\, manejo\, uso y aprovechamiento de los recursos naturales renovables y el medio ambiente de la Nación\, a fin de asegurar el desarrollo sostenible.
URL:https://www.corpoguavio.gov.co/evento/aniversario-ley-99-por-medio-del-cual-se-crea-el-sistema-nacional-ambiental-sina/
ATTACH;FMTTYPE=image/jpeg:https://www.corpoguavio.gov.co/wp-content/uploads/2026/04/SINA.jpg
END:VEVENT
END:VCALENDAR